BEGIN:VCALENDAR
VERSION:2.0
PRODID:-//Instituto Brasileiro de Ação Responsável - ECPv5.9.0//NONSGML v1.0//EN
CALSCALE:GREGORIAN
METHOD:PUBLISH
X-WR-CALNAME:Instituto Brasileiro de Ação Responsável
X-ORIGINAL-URL:https://acaoresponsavel.org.br/index
X-WR-CALDESC:Eventos para Instituto Brasileiro de Ação Responsável
BEGIN:VTIMEZONE
TZID:America/Sao_Paulo
BEGIN:STANDARD
TZOFFSETFROM:-0300
TZOFFSETTO:-0300
TZNAME:-03
DTSTART:20240101T000000
END:STANDARD
END:VTIMEZONE
BEGIN:VEVENT
DTSTART;TZID=America/Sao_Paulo:20240930T140000
DTEND;TZID=America/Sao_Paulo:20240930T190000
DTSTAMP:20260422T092019
CREATED:20241201T114309Z
LAST-MODIFIED:20251004T020328Z
UID:5171-1727704800-1727722800@acaoresponsavel.org.br
SUMMARY:XVI Fórum Nacional de Inovação Tecnológica em Saúde no Brasil
DESCRIPTION:
URL:https://acaoresponsavel.org.br/index/evento/xvi-forum-nacional-de-inovacao-tecnologica-em-saude-no-brasil/
LOCATION:Senado Federal\, 70165-900
CATEGORIES:Fórum
END:VEVENT
END:VCALENDAR