BEGIN:VCALENDAR
VERSION:2.0
PRODID:-//Instituto Brasileiro de Ação Responsável - ECPv5.9.0//NONSGML v1.0//EN
CALSCALE:GREGORIAN
METHOD:PUBLISH
X-WR-CALNAME:Instituto Brasileiro de Ação Responsável
X-ORIGINAL-URL:https://acaoresponsavel.org.br/index
X-WR-CALDESC:Eventos para Instituto Brasileiro de Ação Responsável
BEGIN:VTIMEZONE
TZID:America/Sao_Paulo
BEGIN:STANDARD
TZOFFSETFROM:-0300
TZOFFSETTO:-0300
TZNAME:-03
DTSTART:20240101T000000
END:STANDARD
END:VTIMEZONE
BEGIN:VEVENT
DTSTART;TZID=America/Sao_Paulo:20240613T090000
DTEND;TZID=America/Sao_Paulo:20240613T140000
DTSTAMP:20260422T123917
CREATED:20240308T200727Z
LAST-MODIFIED:20240514T220211Z
UID:4735-1718269200-1718287200@acaoresponsavel.org.br
SUMMARY:XV Fórum Nacional de Políticas de Saúde no Brasil - Doenças Raras
DESCRIPTION:
URL:https://acaoresponsavel.org.br/index/evento/xv-forum-nacional-de-politicas-de-saude-no-brasil-doencas-raras/
CATEGORIES:Fórum
END:VEVENT
END:VCALENDAR