BEGIN:VCALENDAR
VERSION:2.0
PRODID:-//Instituto Brasileiro de Ação Responsável - ECPv5.9.0//NONSGML v1.0//EN
CALSCALE:GREGORIAN
METHOD:PUBLISH
X-WR-CALNAME:Instituto Brasileiro de Ação Responsável
X-ORIGINAL-URL:https://acaoresponsavel.org.br/index
X-WR-CALDESC:Eventos para Instituto Brasileiro de Ação Responsável
BEGIN:VTIMEZONE
TZID:America/Sao_Paulo
BEGIN:STANDARD
TZOFFSETFROM:-0300
TZOFFSETTO:-0300
TZNAME:-03
DTSTART:20240101T000000
END:STANDARD
END:VTIMEZONE
BEGIN:VEVENT
DTSTART;TZID=America/Sao_Paulo:20241128T090000
DTEND;TZID=America/Sao_Paulo:20241128T140000
DTSTAMP:20260422T123812
CREATED:20240308T204542Z
LAST-MODIFIED:20240515T225344Z
UID:4752-1732784400-1732802400@acaoresponsavel.org.br
SUMMARY:XV Fórum Nacional de Inovação Tecnológica em Saúde no Brasil
DESCRIPTION:
URL:https://acaoresponsavel.org.br/index/evento/xv-forum-nacional-de-inovacao-tecnologica-em-saude-no-brasil/
CATEGORIES:Fórum
END:VEVENT
END:VCALENDAR