BEGIN:VCALENDAR
VERSION:2.0
PRODID:-//Instituto Brasileiro de Ação Responsável - ECPv5.9.0//NONSGML v1.0//EN
CALSCALE:GREGORIAN
METHOD:PUBLISH
X-WR-CALNAME:Instituto Brasileiro de Ação Responsável
X-ORIGINAL-URL:https://acaoresponsavel.org.br/index
X-WR-CALDESC:Eventos para Instituto Brasileiro de Ação Responsável
BEGIN:VTIMEZONE
TZID:America/Sao_Paulo
BEGIN:STANDARD
TZOFFSETFROM:-0300
TZOFFSETTO:-0300
TZNAME:-03
DTSTART:20240101T000000
END:STANDARD
END:VTIMEZONE
BEGIN:VEVENT
DTSTART;TZID=America/Sao_Paulo:20240704T090000
DTEND;TZID=America/Sao_Paulo:20240704T140000
DTSTAMP:20260422T123951
CREATED:20231005T210630Z
LAST-MODIFIED:20240515T213600Z
UID:4240-1720083600-1720101600@acaoresponsavel.org.br
SUMMARY:XIII Fórum Nacional sobre Câncer – Avanços no tratamento\, tecnologia e suporte ao paciente oncológico
DESCRIPTION:
URL:https://acaoresponsavel.org.br/index/evento/xiii-forum-nacional-sobre-cancer-avancos-no-tratamento-tecnologia-e-suporte-ao-paciente-oncologico/
CATEGORIES:Fórum
END:VEVENT
END:VCALENDAR