BEGIN:VCALENDAR
VERSION:2.0
PRODID:-//Instituto Brasileiro de Ação Responsável - ECPv5.9.0//NONSGML v1.0//EN
CALSCALE:GREGORIAN
METHOD:PUBLISH
X-WR-CALNAME:Instituto Brasileiro de Ação Responsável
X-ORIGINAL-URL:https://acaoresponsavel.org.br/index
X-WR-CALDESC:Eventos para Instituto Brasileiro de Ação Responsável
BEGIN:VTIMEZONE
TZID:America/Sao_Paulo
BEGIN:STANDARD
TZOFFSETFROM:-0300
TZOFFSETTO:-0300
TZNAME:-03
DTSTART:20220101T000000
END:STANDARD
END:VTIMEZONE
BEGIN:VEVENT
DTSTART;TZID=America/Sao_Paulo:20220407T090000
DTEND;TZID=America/Sao_Paulo:20220407T120000
DTSTAMP:20260422T155402
CREATED:20220315T190500Z
LAST-MODIFIED:20220315T190500Z
UID:3955-1649322000-1649332800@acaoresponsavel.org.br
SUMMARY:XIII Fórum Nacional de Políticas de Saúde no Brasil - Doenças Raras
DESCRIPTION:
URL:https://acaoresponsavel.org.br/index/evento/xiii-forum-nacional-de-politicas-de-saude-no-brasil-doencas-raras/
CATEGORIES:Fórum
END:VEVENT
END:VCALENDAR