BEGIN:VCALENDAR
VERSION:2.0
PRODID:-//Instituto Brasileiro de Ação Responsável - ECPv5.9.0//NONSGML v1.0//EN
CALSCALE:GREGORIAN
METHOD:PUBLISH
X-WR-CALNAME:Instituto Brasileiro de Ação Responsável
X-ORIGINAL-URL:https://acaoresponsavel.org.br/index
X-WR-CALDESC:Eventos para Instituto Brasileiro de Ação Responsável
BEGIN:VTIMEZONE
TZID:America/Sao_Paulo
BEGIN:STANDARD
TZOFFSETFROM:-0300
TZOFFSETTO:-0300
TZNAME:-03
DTSTART:20230101T000000
END:STANDARD
END:VTIMEZONE
BEGIN:VEVENT
DTSTART;TZID=America/Sao_Paulo:20231121T140000
DTEND;TZID=America/Sao_Paulo:20231121T190000
DTSTAMP:20260422T153449
CREATED:20230804T211604Z
LAST-MODIFIED:20231005T131717Z
UID:4244-1700575200-1700593200@acaoresponsavel.org.br
SUMMARY:Seminário Internacional de Transição Energética – rumo à neutralidade carbônica
DESCRIPTION:
URL:https://acaoresponsavel.org.br/index/evento/seminario-internacional-de-transicao-energetica-emissao-zero/
CATEGORIES:Fórum
END:VEVENT
END:VCALENDAR