BEGIN:VCALENDAR
VERSION:2.0
PRODID:-//Instituto Brasileiro de Ação Responsável - ECPv5.9.0//NONSGML v1.0//EN
CALSCALE:GREGORIAN
METHOD:PUBLISH
X-WR-CALNAME:Instituto Brasileiro de Ação Responsável
X-ORIGINAL-URL:https://acaoresponsavel.org.br/index
X-WR-CALDESC:Eventos para Instituto Brasileiro de Ação Responsável
BEGIN:VTIMEZONE
TZID:America/Sao_Paulo
BEGIN:STANDARD
TZOFFSETFROM:-0300
TZOFFSETTO:-0300
TZNAME:-03
DTSTART:20250101T000000
END:STANDARD
END:VTIMEZONE
BEGIN:VEVENT
DTSTART;TZID=America/Sao_Paulo:20250527T133000
DTEND;TZID=America/Sao_Paulo:20250527T160000
DTSTAMP:20260422T091554
CREATED:20241212T113308Z
LAST-MODIFIED:20250521T233819Z
UID:5159-1748352600-1748361600@acaoresponsavel.org.br
SUMMARY:Diálogos: Um olhar sobre a saúde da mulher - Planejamento reprodutivo e a autonomia da mulher
DESCRIPTION:
URL:https://acaoresponsavel.org.br/index/evento/dialogos-um-olhar-sobre-a-saude-da-mulher-planejamento-reprodutivo-e-a-autonomia-da-mulher/
LOCATION:Salão Nobre da Câmara dos Deputados Federal\, Brasília\, DF\, Brasil
CATEGORIES:Fórum
END:VEVENT
END:VCALENDAR