BEGIN:VCALENDAR
VERSION:2.0
PRODID:-//Instituto Brasileiro de Ação Responsável - ECPv5.9.0//NONSGML v1.0//EN
CALSCALE:GREGORIAN
METHOD:PUBLISH
X-WR-CALNAME:Instituto Brasileiro de Ação Responsável
X-ORIGINAL-URL:https://acaoresponsavel.org.br/index
X-WR-CALDESC:Eventos para Instituto Brasileiro de Ação Responsável
BEGIN:VTIMEZONE
TZID:America/Sao_Paulo
BEGIN:STANDARD
TZOFFSETFROM:-0300
TZOFFSETTO:-0300
TZNAME:-03
DTSTART:20250101T000000
END:STANDARD
END:VTIMEZONE
BEGIN:VEVENT
DTSTART;TZID=America/Sao_Paulo:20251204T090000
DTEND;TZID=America/Sao_Paulo:20251204T140000
DTSTAMP:20260422T153350
CREATED:20241212T114040Z
LAST-MODIFIED:20251201T190135Z
UID:5513-1764838800-1764856800@acaoresponsavel.org.br
SUMMARY:Biossimilares no Brasil: Avanços Regulatórios e Sustentabilidade no Acesso
DESCRIPTION:
URL:https://acaoresponsavel.org.br/index/evento/biossimilares-no-brasil-avacos-regulatorios-e-sustentabilidade-no-acesso/
LOCATION:Senado Federal\, 70165-900
CATEGORIES:Fórum
END:VEVENT
END:VCALENDAR